BEGIN:VCALENDAR
VERSION:2.0
PRODID:-//jEvents 2.0 for Joomla//EN
CALSCALE:GREGORIAN
METHOD:PUBLISH
BEGIN:VEVENT
UID:b95452b998b87d637c43bde12530e9d4
CATEGORIES:BM Geburtstag
CREATED:20221003T192958
SUMMARY:Geb Michael
DESCRIPTION:
DTSTAMP:20260421T173541
DTSTART;TZID=Europe/Berlin;VALUE=DATE:20400827
DTEND;TZID=Europe/Berlin;VALUE=DATE:20400828
SEQUENCE:0
TRANSP:OPAQUE
END:VEVENT
END:VCALENDAR