BEGIN:VCALENDAR
VERSION:2.0
PRODID:-//jEvents 2.0 for Joomla//EN
CALSCALE:GREGORIAN
METHOD:PUBLISH
BEGIN:VEVENT
UID:cf1d850244bd572e53e79620ffc6789d
CATEGORIES:VB Geburtstag
CREATED:20220709T135710
SUMMARY:Geb Felix
DESCRIPTION:
DTSTAMP:20260424T051111
DTSTART;TZID=Europe/Berlin;VALUE=DATE:20450918
DTEND;TZID=Europe/Berlin;VALUE=DATE:20450919
SEQUENCE:0
TRANSP:OPAQUE
END:VEVENT
END:VCALENDAR