BEGIN:VCALENDAR
VERSION:2.0
PRODID:-//jEvents 2.0 for Joomla//EN
CALSCALE:GREGORIAN
METHOD:PUBLISH
BEGIN:VEVENT
UID:123341bb12dfe6a1d589e57600ed0eae
CATEGORIES:TT Geburtstag
CREATED:20220313T133607
SUMMARY:Geb Michl
DESCRIPTION:
DTSTAMP:20260421T072334
DTSTART;TZID=Europe/Berlin;VALUE=DATE:20381218
DTEND;TZID=Europe/Berlin;VALUE=DATE:20381219
SEQUENCE:0
TRANSP:OPAQUE
END:VEVENT
END:VCALENDAR