BEGIN:VCALENDAR
VERSION:2.0
PRODID:-//jEvents 2.0 for Joomla//EN
CALSCALE:GREGORIAN
METHOD:PUBLISH
BEGIN:VTIMEZONE
TZID:Europe/Berlin
END:VTIMEZONE
BEGIN:VEVENT
UID:7b0601222e4c05d1799b1bf7b47dc6d8
CATEGORIES:GY Geburtstag
CREATED:20220313T133233
SUMMARY:Geb Silvia
DESCRIPTION:
DTSTAMP:20260419T211933
DTSTART;TZID=Europe/Berlin:20311026T000000
DTEND;TZID=Europe/Berlin:20311026T225959
SEQUENCE:0
TRANSP:OPAQUE
END:VEVENT
END:VCALENDAR