BEGIN:VCALENDAR
VERSION:2.0
PRODID:-//jEvents 2.0 for Joomla//EN
CALSCALE:GREGORIAN
METHOD:PUBLISH
BEGIN:VEVENT
UID:cd9cdff9e0ac7349d3eee453ffc4b56b
CATEGORIES:TT Geburtstag
CREATED:20200304T190827
SUMMARY:Geb Uwe
DESCRIPTION:
DTSTAMP:20260424T142956
DTSTART;TZID=Europe/Berlin;VALUE=DATE:20400916
DTEND;TZID=Europe/Berlin;VALUE=DATE:20400917
SEQUENCE:0
TRANSP:OPAQUE
END:VEVENT
END:VCALENDAR