BEGIN:VCALENDAR
VERSION:2.0
PRODID:-//jEvents 2.0 for Joomla//EN
CALSCALE:GREGORIAN
METHOD:PUBLISH
BEGIN:VEVENT
UID:b61affe88aaccbc6dcbee1261bdcf0de
CATEGORIES:BM Geburtstag
CREATED:20191215T182920
SUMMARY:Geb Selina
DESCRIPTION:
DTSTAMP:20260421T041951
DTSTART;TZID=Europe/Berlin;VALUE=DATE:20381223
DTEND;TZID=Europe/Berlin;VALUE=DATE:20381224
SEQUENCE:0
TRANSP:OPAQUE
END:VEVENT
END:VCALENDAR