BEGIN:VCALENDAR
VERSION:2.0
PRODID:-//jEvents 2.0 for Joomla//EN
CALSCALE:GREGORIAN
METHOD:PUBLISH
BEGIN:VEVENT
UID:e8f641fe0d40bd96cc322e770f64dce5
CATEGORIES:VB Geburtstag
CREATED:20160928T193308
SUMMARY:Geb Ronny
DESCRIPTION:
DTSTAMP:20260421T024925
DTSTART;TZID=Europe/Berlin;VALUE=DATE:20390531
DTEND;TZID=Europe/Berlin;VALUE=DATE:20390601
SEQUENCE:0
TRANSP:OPAQUE
END:VEVENT
END:VCALENDAR