BEGIN:VCALENDAR
VERSION:2.0
PRODID:-//jEvents 2.0 for Joomla//EN
CALSCALE:GREGORIAN
METHOD:PUBLISH
BEGIN:VEVENT
UID:58cf34e8fe2d996ed643312966f80e81
CATEGORIES:TT Geburtstag
CREATED:20151216T093122
SUMMARY:Geb Steffen
DESCRIPTION:
DTSTAMP:20260422T020018
DTSTART;TZID=Europe/Berlin;VALUE=DATE:20390606
DTEND;TZID=Europe/Berlin;VALUE=DATE:20390607
SEQUENCE:0
TRANSP:OPAQUE
END:VEVENT
END:VCALENDAR