BEGIN:VCALENDAR
VERSION:2.0
PRODID:-//jEvents 2.0 for Joomla//EN
CALSCALE:GREGORIAN
METHOD:PUBLISH
BEGIN:VEVENT
UID:37d28ef283873479613830565d293a3c
CATEGORIES:VB Geburtstag
CREATED:20151216T091538
SUMMARY:Geb Silke
DESCRIPTION:
DTSTAMP:20260421T213641
DTSTART;TZID=Europe/Berlin;VALUE=DATE:20410822
DTEND;TZID=Europe/Berlin;VALUE=DATE:20410823
SEQUENCE:0
TRANSP:OPAQUE
END:VEVENT
END:VCALENDAR