BEGIN:VCALENDAR
VERSION:2.0
PRODID:-//jEvents 2.0 for Joomla//EN
CALSCALE:GREGORIAN
METHOD:PUBLISH
BEGIN:VEVENT
UID:f115dd8b2a130b4b905e48ffff8310d4
CATEGORIES:VB Geburtstag
CREATED:20151216T091304
SUMMARY:Geb Manuela
DESCRIPTION:
DTSTAMP:20260423T131012
DTSTART;TZID=Europe/Berlin;VALUE=DATE:20421108
DTEND;TZID=Europe/Berlin;VALUE=DATE:20421109
SEQUENCE:0
TRANSP:OPAQUE
END:VEVENT
END:VCALENDAR