BEGIN:VCALENDAR
VERSION:2.0
PRODID:-//jEvents 2.0 for Joomla//EN
CALSCALE:GREGORIAN
METHOD:PUBLISH
BEGIN:VEVENT
UID:2845a15e548e77b4265256a0d253c080
CATEGORIES:BM Geburtstag
CREATED:20151216T080432
SUMMARY:Geb Romy
DESCRIPTION:
DTSTAMP:20260422T231644
DTSTART;TZID=Europe/Berlin;VALUE=DATE:20431008
DTEND;TZID=Europe/Berlin;VALUE=DATE:20431009
SEQUENCE:0
TRANSP:OPAQUE
END:VEVENT
END:VCALENDAR