BEGIN:VCALENDAR
VERSION:2.0
PRODID:-//jEvents 2.0 for Joomla//EN
CALSCALE:GREGORIAN
METHOD:PUBLISH
BEGIN:VEVENT
UID:dffbbbc7b00139f242af7897b703c313
CATEGORIES:BM Geburtstag
CREATED:20151216T075149
SUMMARY:Geb Peter
DESCRIPTION:
DTSTAMP:20260423T031941
DTSTART;TZID=Europe/Berlin;VALUE=DATE:20451022
DTEND;TZID=Europe/Berlin;VALUE=DATE:20451023
SEQUENCE:0
TRANSP:OPAQUE
END:VEVENT
END:VCALENDAR