BEGIN:VCALENDAR
VERSION:2.0
PRODID:-//jEvents 2.0 for Joomla//EN
CALSCALE:GREGORIAN
METHOD:PUBLISH
BEGIN:VEVENT
UID:1c2167ca61b29d32b2f5c4b1f28ce269
CATEGORIES:TT Geburtstag
CREATED:20151215T161830
SUMMARY:Geb Matthias
DESCRIPTION:
DTSTAMP:20260421T025310
DTSTART;TZID=Europe/Berlin;VALUE=DATE:20400419
DTEND;TZID=Europe/Berlin;VALUE=DATE:20400420
SEQUENCE:0
TRANSP:OPAQUE
END:VEVENT
END:VCALENDAR