BEGIN:VCALENDAR
VERSION:2.0
PRODID:-//jEvents 2.0 for Joomla//EN
CALSCALE:GREGORIAN
METHOD:PUBLISH
BEGIN:VEVENT
UID:043930d6db77170d7b27f155e6ad75fd
CATEGORIES:TT Geburtstag
CREATED:20151215T160636
SUMMARY:Geb Torben
DESCRIPTION:
DTSTAMP:20260422T025105
DTSTART;TZID=Europe/Berlin;VALUE=DATE:20410122
DTEND;TZID=Europe/Berlin;VALUE=DATE:20410123
SEQUENCE:0
TRANSP:OPAQUE
END:VEVENT
END:VCALENDAR