BEGIN:VCALENDAR
VERSION:2.0
PRODID:-//jEvents 2.0 for Joomla//EN
CALSCALE:GREGORIAN
METHOD:PUBLISH
BEGIN:VTIMEZONE
TZID:Europe/Berlin
END:VTIMEZONE
BEGIN:VEVENT
UID:07853522e89a6d5655f71443c32eb132
CATEGORIES:TT Geburtstag
CREATED:20151215T153757
SUMMARY:Geb Norbert
DESCRIPTION:
DTSTAMP:20260419T215932
DTSTART;TZID=Europe/Berlin;VALUE=DATE:20291028
DTEND;TZID=Europe/Berlin;VALUE=DATE:20291029
SEQUENCE:0
TRANSP:OPAQUE
END:VEVENT
END:VCALENDAR