BEGIN:VCALENDAR
VERSION:2.0
PRODID:-//jEvents 2.0 for Joomla//EN
CALSCALE:GREGORIAN
METHOD:PUBLISH
BEGIN:VEVENT
UID:2fa2717bf724bc8861811b8c1ada1d7e
CATEGORIES:TT Geburtstag
CREATED:20151215T153342
SUMMARY:Geb Christian
DESCRIPTION:
DTSTAMP:20260422T223326
DTSTART;TZID=Europe/Berlin;VALUE=DATE:20421002
DTEND;TZID=Europe/Berlin;VALUE=DATE:20421003
SEQUENCE:0
TRANSP:OPAQUE
END:VEVENT
END:VCALENDAR