BEGIN:VCALENDAR
VERSION:2.0
PRODID:-//jEvents 2.0 for Joomla//EN
CALSCALE:GREGORIAN
METHOD:PUBLISH
BEGIN:VEVENT
UID:920579b1cf546923885ddc30cc5792e8
CATEGORIES:TT Geburtstag
CREATED:20151215T152615
SUMMARY:Geb Peter
DESCRIPTION:
DTSTAMP:20260421T065605
DTSTART;TZID=Europe/Berlin;VALUE=DATE:20390701
DTEND;TZID=Europe/Berlin;VALUE=DATE:20390702
SEQUENCE:0
TRANSP:OPAQUE
END:VEVENT
END:VCALENDAR