BEGIN:VCALENDAR
VERSION:2.0
PRODID:-//jEvents 2.0 for Joomla//EN
CALSCALE:GREGORIAN
METHOD:PUBLISH
BEGIN:VEVENT
UID:b1df8c6d7e602c672f35e2046da17558
CATEGORIES:TT Geburtstag
CREATED:20151128T204730
SUMMARY:Geb Klaus-Dieter
DESCRIPTION:
DTSTAMP:20260422T015945
DTSTART;TZID=Europe/Berlin;VALUE=DATE:20420128
DTEND;TZID=Europe/Berlin;VALUE=DATE:20420129
SEQUENCE:0
TRANSP:OPAQUE
END:VEVENT
END:VCALENDAR