BEGIN:VCALENDAR
VERSION:2.0
PRODID:-//jEvents 2.0 for Joomla//EN
CALSCALE:GREGORIAN
METHOD:PUBLISH
BEGIN:VTIMEZONE
TZID:Europe/Berlin
END:VTIMEZONE
BEGIN:VEVENT
UID:d59e2992190bcc7288f517b2284731ed
CATEGORIES:TT Geburtstag
CREATED:20151009T183313
SUMMARY:Geb Tom Elias
DESCRIPTION:
DTSTAMP:20260419T193414
DTSTART;TZID=Europe/Berlin:20330327T000000
DTEND;TZID=Europe/Berlin:20330328T005959
SEQUENCE:0
TRANSP:OPAQUE
END:VEVENT
END:VCALENDAR