BEGIN:VCALENDAR
VERSION:2.0
PRODID:-//jEvents 2.0 for Joomla//EN
CALSCALE:GREGORIAN
METHOD:PUBLISH
BEGIN:VEVENT
UID:59a3b9be56f7de11ac81af4d839119d1
CATEGORIES:GY Geburtstag
CREATED:20190219T184334
SUMMARY:Geb Monika
DESCRIPTION:
DTSTAMP:20260421T213712
DTSTART;TZID=Europe/Berlin;VALUE=DATE:20390417
DTEND;TZID=Europe/Berlin;VALUE=DATE:20390418
SEQUENCE:0
TRANSP:OPAQUE
END:VEVENT
END:VCALENDAR