BEGIN:VCALENDAR
VERSION:2.0
PRODID:-//jEvents 2.0 for Joomla//EN
CALSCALE:GREGORIAN
METHOD:PUBLISH
BEGIN:VEVENT
UID:820e567aca3ff6c28138cb456a8977a9
CATEGORIES:GY Geburtstag
CREATED:20151216T082446
SUMMARY:Geb Sabine
DESCRIPTION:
DTSTAMP:20260422T214911
DTSTART;TZID=Europe/Berlin;VALUE=DATE:20390913
DTEND;TZID=Europe/Berlin;VALUE=DATE:20390914
SEQUENCE:0
TRANSP:OPAQUE
END:VEVENT
END:VCALENDAR