BEGIN:VCALENDAR
VERSION:2.0
PRODID:-//jEvents 2.0 for Joomla//EN
CALSCALE:GREGORIAN
METHOD:PUBLISH
BEGIN:VEVENT
UID:b60f3126fb972f64e785825a59f68494
CATEGORIES:BM Geburtstag
CREATED:20210826T182215
SUMMARY:Geb Thomas
DESCRIPTION:
DTSTAMP:20260422T234516
DTSTART;TZID=Europe/Berlin;VALUE=DATE:20420120
DTEND;TZID=Europe/Berlin;VALUE=DATE:20420121
SEQUENCE:0
TRANSP:OPAQUE
END:VEVENT
END:VCALENDAR