BEGIN:VCALENDAR
VERSION:2.0
PRODID:-//jEvents 2.0 for Joomla//EN
CALSCALE:GREGORIAN
METHOD:PUBLISH
BEGIN:VTIMEZONE
TZID:Europe/Berlin
END:VTIMEZONE
BEGIN:VEVENT
UID:28a5beff838813a917e71bdda61bb4cf
CATEGORIES:BM Geburtstag
CREATED:20171129T182107
SUMMARY:Geb Sven
DESCRIPTION:
DTSTAMP:20260420T214323
DTSTART;TZID=Europe/Berlin:20370329T000000
DTEND;TZID=Europe/Berlin:20370330T005959
SEQUENCE:0
TRANSP:OPAQUE
END:VEVENT
END:VCALENDAR