BEGIN:VCALENDAR
VERSION:2.0
PRODID:-//jEvents 2.0 for Joomla//EN
CALSCALE:GREGORIAN
METHOD:PUBLISH
BEGIN:VEVENT
UID:dd16bc5f29bca57282958da9a2593f56
CATEGORIES:BM Geburtstag
CREATED:20151216T081119
SUMMARY:Geb Robby
DESCRIPTION:
DTSTAMP:20260421T041251
DTSTART;TZID=Europe/Berlin;VALUE=DATE:20390326
DTEND;TZID=Europe/Berlin;VALUE=DATE:20390327
SEQUENCE:0
TRANSP:OPAQUE
END:VEVENT
END:VCALENDAR