BEGIN:VCALENDAR
VERSION:2.0
PRODID:-//jEvents 2.0 for Joomla//EN
CALSCALE:GREGORIAN
METHOD:PUBLISH
BEGIN:VTIMEZONE
TZID:Europe/Berlin
END:VTIMEZONE
BEGIN:VEVENT
UID:67a74f24934b5754492eafa512374b27
CATEGORIES:BM Geburtstag
CREATED:20151216T081031
SUMMARY:Geb Anke
DESCRIPTION:
DTSTAMP:20260420T060608
DTSTART;TZID=Europe/Berlin:20301027T000000
DTEND;TZID=Europe/Berlin:20301027T225959
SEQUENCE:0
TRANSP:OPAQUE
END:VEVENT
END:VCALENDAR