BEGIN:VCALENDAR
VERSION:2.0
PRODID:-//jEvents 2.0 for Joomla//EN
CALSCALE:GREGORIAN
METHOD:PUBLISH
BEGIN:VEVENT
UID:3d78f22850dda4791f3e08bd9f29b867
CATEGORIES:BM Geburtstag
CREATED:20151216T080658
SUMMARY:Geb Michael
DESCRIPTION:
DTSTAMP:20260420T230622
DTSTART;TZID=Europe/Berlin;VALUE=DATE:20390228
DTEND;TZID=Europe/Berlin;VALUE=DATE:20390301
SEQUENCE:0
TRANSP:OPAQUE
END:VEVENT
END:VCALENDAR