BEGIN:VCALENDAR
VERSION:2.0
PRODID:-//jEvents 2.0 for Joomla//EN
CALSCALE:GREGORIAN
METHOD:PUBLISH
BEGIN:VEVENT
UID:c8e3e08b7362cf3e20a14485d45215ea
CATEGORIES:BM Geburtstag
CREATED:20151216T074408
SUMMARY:Geb Angelika
DESCRIPTION:
DTSTAMP:20260421T233513
DTSTART;TZID=Europe/Berlin;VALUE=DATE:20400813
DTEND;TZID=Europe/Berlin;VALUE=DATE:20400814
SEQUENCE:0
TRANSP:OPAQUE
END:VEVENT
END:VCALENDAR